BEGIN:VCALENDAR
VERSION:2.0
PRODID:-//Golf de l&#039;Hippodrome - ECPv6.15.20//NONSGML v1.0//EN
CALSCALE:GREGORIAN
METHOD:PUBLISH
X-WR-CALNAME:Golf de l&#039;Hippodrome
X-ORIGINAL-URL:https://www.golfhippo.com
X-WR-CALDESC:Évènements pour Golf de l&#039;Hippodrome
REFRESH-INTERVAL;VALUE=DURATION:PT1H
X-Robots-Tag:noindex
X-PUBLISHED-TTL:PT1H
BEGIN:VTIMEZONE
TZID:Europe/Paris
BEGIN:DAYLIGHT
TZOFFSETFROM:+0100
TZOFFSETTO:+0200
TZNAME:CEST
DTSTART:20240331T010000
END:DAYLIGHT
BEGIN:STANDARD
TZOFFSETFROM:+0200
TZOFFSETTO:+0100
TZNAME:CET
DTSTART:20241027T010000
END:STANDARD
BEGIN:DAYLIGHT
TZOFFSETFROM:+0100
TZOFFSETTO:+0200
TZNAME:CEST
DTSTART:20250330T010000
END:DAYLIGHT
BEGIN:STANDARD
TZOFFSETFROM:+0200
TZOFFSETTO:+0100
TZNAME:CET
DTSTART:20251026T010000
END:STANDARD
BEGIN:DAYLIGHT
TZOFFSETFROM:+0100
TZOFFSETTO:+0200
TZNAME:CEST
DTSTART:20260329T010000
END:DAYLIGHT
BEGIN:STANDARD
TZOFFSETFROM:+0200
TZOFFSETTO:+0100
TZNAME:CET
DTSTART:20261025T010000
END:STANDARD
END:VTIMEZONE
BEGIN:VEVENT
DTSTART;VALUE=DATE:20250406
DTEND;VALUE=DATE:20250407
DTSTAMP:20260421T112358
CREATED:20250116T100246Z
LAST-MODIFIED:20250116T100311Z
UID:10173-1743897600-1743983999@www.golfhippo.com
SUMMARY:Courses hippiques
DESCRIPTION:Parcours et practice fermés
URL:https://www.golfhippo.com/evenement/courses-hippiques-27/
CATEGORIES:Général
END:VEVENT
BEGIN:VEVENT
DTSTART;VALUE=DATE:20250419
DTEND;VALUE=DATE:20250420
DTSTAMP:20260421T112358
CREATED:20250116T101541Z
LAST-MODIFIED:20250116T101541Z
UID:10185-1745020800-1745107199@www.golfhippo.com
SUMMARY:Courses hippiques
DESCRIPTION:Parcours et practice fermés
URL:https://www.golfhippo.com/evenement/courses-hippiques-28/
CATEGORIES:Général
END:VEVENT
END:VCALENDAR