BEGIN:VCALENDAR
VERSION:2.0
PRODID:-//Golf de l&#039;Hippodrome - ECPv6.15.20//NONSGML v1.0//EN
CALSCALE:GREGORIAN
METHOD:PUBLISH
X-ORIGINAL-URL:https://www.golfhippo.com
X-WR-CALDESC:Évènements pour Golf de l&#039;Hippodrome
REFRESH-INTERVAL;VALUE=DURATION:PT1H
X-Robots-Tag:noindex
X-PUBLISHED-TTL:PT1H
BEGIN:VTIMEZONE
TZID:Europe/Paris
BEGIN:DAYLIGHT
TZOFFSETFROM:+0100
TZOFFSETTO:+0200
TZNAME:CEST
DTSTART:20230326T010000
END:DAYLIGHT
BEGIN:STANDARD
TZOFFSETFROM:+0200
TZOFFSETTO:+0100
TZNAME:CET
DTSTART:20231029T010000
END:STANDARD
BEGIN:DAYLIGHT
TZOFFSETFROM:+0100
TZOFFSETTO:+0200
TZNAME:CEST
DTSTART:20240331T010000
END:DAYLIGHT
BEGIN:STANDARD
TZOFFSETFROM:+0200
TZOFFSETTO:+0100
TZNAME:CET
DTSTART:20241027T010000
END:STANDARD
BEGIN:DAYLIGHT
TZOFFSETFROM:+0100
TZOFFSETTO:+0200
TZNAME:CEST
DTSTART:20250330T010000
END:DAYLIGHT
BEGIN:STANDARD
TZOFFSETFROM:+0200
TZOFFSETTO:+0100
TZNAME:CET
DTSTART:20251026T010000
END:STANDARD
END:VTIMEZONE
BEGIN:VEVENT
DTSTART;VALUE=DATE:20241012
DTEND;VALUE=DATE:20241013
DTSTAMP:20260421T202606
CREATED:20240109T113045Z
LAST-MODIFIED:20240109T113045Z
UID:8538-1728691200-1728777599@www.golfhippo.com
SUMMARY:Courses Hippiques
DESCRIPTION:
URL:https://www.golfhippo.com/evenement/courses-hippiques-22/
LOCATION:Association Golf Avenir\, 2 rue du Grand Vert\, LALOUBERE\, 65310\, France
CATEGORIES:Général
ATTACH;FMTTYPE=image/png:https://www.golfhippo.com/wp-content/uploads/2024/01/Courses-hippiques.png
END:VEVENT
BEGIN:VEVENT
DTSTART;TZID=Europe/Paris:20241019T080000
DTEND;TZID=Europe/Paris:20241019T190000
DTSTAMP:20260421T202606
CREATED:20240912T145332Z
LAST-MODIFIED:20241009T093828Z
UID:9968-1729324800-1729364400@www.golfhippo.com
SUMMARY:Coupe des secrétaires
DESCRIPTION:
URL:https://www.golfhippo.com/evenement/coupe-des-secretaires-5/
LOCATION:Association Golf Avenir\, 2 rue du Grand Vert\, LALOUBERE\, 65310\, France
CATEGORIES:Compétitions,Général
ATTACH;FMTTYPE=image/png:https://www.golfhippo.com/wp-content/uploads/2024/09/coupe-secretaires-Publication-Instagram.png
END:VEVENT
BEGIN:VEVENT
DTSTART;VALUE=DATE:20241020
DTEND;VALUE=DATE:20241021
DTSTAMP:20260421T202606
CREATED:20240109T113133Z
LAST-MODIFIED:20240109T113133Z
UID:8544-1729382400-1729468799@www.golfhippo.com
SUMMARY:Courses Hippiques
DESCRIPTION:
URL:https://www.golfhippo.com/evenement/courses-hippiques-23/
LOCATION:Association Golf Avenir\, 2 rue du Grand Vert\, LALOUBERE\, 65310\, France
CATEGORIES:Général
ATTACH;FMTTYPE=image/png:https://www.golfhippo.com/wp-content/uploads/2024/01/Courses-hippiques.png
END:VEVENT
END:VCALENDAR