BEGIN:VCALENDAR
VERSION:2.0
PRODID:-//Golf de l&#039;Hippodrome - ECPv6.15.20//NONSGML v1.0//EN
CALSCALE:GREGORIAN
METHOD:PUBLISH
X-WR-CALNAME:Golf de l&#039;Hippodrome
X-ORIGINAL-URL:https://www.golfhippo.com
X-WR-CALDESC:Évènements pour Golf de l&#039;Hippodrome
REFRESH-INTERVAL;VALUE=DURATION:PT1H
X-Robots-Tag:noindex
X-PUBLISHED-TTL:PT1H
BEGIN:VTIMEZONE
TZID:Europe/Paris
BEGIN:DAYLIGHT
TZOFFSETFROM:+0100
TZOFFSETTO:+0200
TZNAME:CEST
DTSTART:20230326T010000
END:DAYLIGHT
BEGIN:STANDARD
TZOFFSETFROM:+0200
TZOFFSETTO:+0100
TZNAME:CET
DTSTART:20231029T010000
END:STANDARD
BEGIN:DAYLIGHT
TZOFFSETFROM:+0100
TZOFFSETTO:+0200
TZNAME:CEST
DTSTART:20240331T010000
END:DAYLIGHT
BEGIN:STANDARD
TZOFFSETFROM:+0200
TZOFFSETTO:+0100
TZNAME:CET
DTSTART:20241027T010000
END:STANDARD
BEGIN:DAYLIGHT
TZOFFSETFROM:+0100
TZOFFSETTO:+0200
TZNAME:CEST
DTSTART:20250330T010000
END:DAYLIGHT
BEGIN:STANDARD
TZOFFSETFROM:+0200
TZOFFSETTO:+0100
TZNAME:CET
DTSTART:20251026T010000
END:STANDARD
END:VTIMEZONE
BEGIN:VEVENT
DTSTART;TZID=Europe/Paris:20240907T080000
DTEND;TZID=Europe/Paris:20240908T170000
DTSTAMP:20260420T030850
CREATED:20240123T084233Z
LAST-MODIFIED:20240123T084233Z
UID:8808-1725696000-1725814800@www.golfhippo.com
SUMMARY:Equipe Seniors hommes à Lannemezan
DESCRIPTION:Championnat de Ligue 1ère division
URL:https://www.golfhippo.com/evenement/equipe-seniors-hommes-a-lannemezan/
CATEGORIES:Equipes
END:VEVENT
BEGIN:VEVENT
DTSTART;TZID=Europe/Paris:20240907T080000
DTEND;TZID=Europe/Paris:20240908T170000
DTSTAMP:20260420T030850
CREATED:20240123T084418Z
LAST-MODIFIED:20240123T084418Z
UID:8814-1725696000-1725814800@www.golfhippo.com
SUMMARY:Equipe Seniors dame aux Tumulus
DESCRIPTION:Championnat de Ligue
URL:https://www.golfhippo.com/evenement/equipe-seniors-dame-aux-tumulus/
CATEGORIES:Equipes
END:VEVENT
BEGIN:VEVENT
DTSTART;TZID=Europe/Paris:20240914T080000
DTEND;TZID=Europe/Paris:20240914T170000
DTSTAMP:20260420T030850
CREATED:20240716T062356Z
LAST-MODIFIED:20240716T062408Z
UID:9659-1726300800-1726333200@www.golfhippo.com
SUMMARY:Trophée Max Espiaut
DESCRIPTION:Handicap 50 à l’Hippodrome
URL:https://www.golfhippo.com/evenement/trophee-max-espiaut-5/
CATEGORIES:Equipes
END:VEVENT
BEGIN:VEVENT
DTSTART;TZID=Europe/Paris:20240919T080000
DTEND;TZID=Europe/Paris:20240922T170000
DTSTAMP:20260420T030850
CREATED:20240123T084541Z
LAST-MODIFIED:20240123T084541Z
UID:8820-1726732800-1727024400@www.golfhippo.com
SUMMARY:Equipe Seniors hommes à Montpellier Fontcaude
DESCRIPTION:Championnat de France 4e division
URL:https://www.golfhippo.com/evenement/equipe-seniors-hommes-a-montpellier-fontcaude/
CATEGORIES:Equipes
END:VEVENT
END:VCALENDAR