BEGIN:VCALENDAR
VERSION:2.0
PRODID:-//Golf de l&#039;Hippodrome - ECPv6.15.20//NONSGML v1.0//EN
CALSCALE:GREGORIAN
METHOD:PUBLISH
X-WR-CALNAME:Golf de l&#039;Hippodrome
X-ORIGINAL-URL:https://www.golfhippo.com
X-WR-CALDESC:Évènements pour Golf de l&#039;Hippodrome
REFRESH-INTERVAL;VALUE=DURATION:PT1H
X-Robots-Tag:noindex
X-PUBLISHED-TTL:PT1H
BEGIN:VTIMEZONE
TZID:Europe/Paris
BEGIN:DAYLIGHT
TZOFFSETFROM:+0100
TZOFFSETTO:+0200
TZNAME:CEST
DTSTART:20230326T010000
END:DAYLIGHT
BEGIN:STANDARD
TZOFFSETFROM:+0200
TZOFFSETTO:+0100
TZNAME:CET
DTSTART:20231029T010000
END:STANDARD
BEGIN:DAYLIGHT
TZOFFSETFROM:+0100
TZOFFSETTO:+0200
TZNAME:CEST
DTSTART:20240331T010000
END:DAYLIGHT
BEGIN:STANDARD
TZOFFSETFROM:+0200
TZOFFSETTO:+0100
TZNAME:CET
DTSTART:20241027T010000
END:STANDARD
BEGIN:DAYLIGHT
TZOFFSETFROM:+0100
TZOFFSETTO:+0200
TZNAME:CEST
DTSTART:20250330T010000
END:DAYLIGHT
BEGIN:STANDARD
TZOFFSETFROM:+0200
TZOFFSETTO:+0100
TZNAME:CET
DTSTART:20251026T010000
END:STANDARD
END:VTIMEZONE
BEGIN:VEVENT
DTSTART;TZID=Europe/Paris:20240711T080000
DTEND;TZID=Europe/Paris:20240714T170000
DTSTAMP:20260420T063258
CREATED:20240123T084100Z
LAST-MODIFIED:20240123T084100Z
UID:8802-1720684800-1720976400@www.golfhippo.com
SUMMARY:Equipe U16 garçons au golf Bordelais
DESCRIPTION:Championnat de France 3e division
URL:https://www.golfhippo.com/evenement/equipe-u16-garcons-au-golf-bordelais/
CATEGORIES:Equipes
END:VEVENT
BEGIN:VEVENT
DTSTART;TZID=Europe/Paris:20240713T080000
DTEND;TZID=Europe/Paris:20240714T170000
DTSTAMP:20260420T063258
CREATED:20240123T083952Z
LAST-MODIFIED:20240123T083952Z
UID:8796-1720857600-1720976400@www.golfhippo.com
SUMMARY:Equipe Mid-Am hommes au golf d'Ariège
DESCRIPTION:Championnat Promotion Nationale
URL:https://www.golfhippo.com/evenement/equipe-mid-am-hommes-au-golf-dariege/
CATEGORIES:Equipes
END:VEVENT
END:VCALENDAR