BEGIN:VCALENDAR
VERSION:2.0
PRODID:-//Golf de l&#039;Hippodrome - ECPv6.15.20//NONSGML v1.0//EN
CALSCALE:GREGORIAN
METHOD:PUBLISH
X-ORIGINAL-URL:https://www.golfhippo.com
X-WR-CALDESC:Évènements pour Golf de l&#039;Hippodrome
REFRESH-INTERVAL;VALUE=DURATION:PT1H
X-Robots-Tag:noindex
X-PUBLISHED-TTL:PT1H
BEGIN:VTIMEZONE
TZID:Europe/Paris
BEGIN:DAYLIGHT
TZOFFSETFROM:+0100
TZOFFSETTO:+0200
TZNAME:CEST
DTSTART:20230326T010000
END:DAYLIGHT
BEGIN:STANDARD
TZOFFSETFROM:+0200
TZOFFSETTO:+0100
TZNAME:CET
DTSTART:20231029T010000
END:STANDARD
BEGIN:DAYLIGHT
TZOFFSETFROM:+0100
TZOFFSETTO:+0200
TZNAME:CEST
DTSTART:20240331T010000
END:DAYLIGHT
BEGIN:STANDARD
TZOFFSETFROM:+0200
TZOFFSETTO:+0100
TZNAME:CET
DTSTART:20241027T010000
END:STANDARD
BEGIN:DAYLIGHT
TZOFFSETFROM:+0100
TZOFFSETTO:+0200
TZNAME:CEST
DTSTART:20250330T010000
END:DAYLIGHT
BEGIN:STANDARD
TZOFFSETFROM:+0200
TZOFFSETTO:+0100
TZNAME:CET
DTSTART:20251026T010000
END:STANDARD
END:VTIMEZONE
BEGIN:VEVENT
DTSTART;TZID=Europe/Paris:20240330T080000
DTEND;TZID=Europe/Paris:20240401T170000
DTSTAMP:20260420T113146
CREATED:20240123T082155Z
LAST-MODIFIED:20240123T082155Z
UID:8772-1711785600-1711990800@www.golfhippo.com
SUMMARY:Equipe 1 hommes à Mazamet
DESCRIPTION:Championnat Promotion de Ligue
URL:https://www.golfhippo.com/evenement/equipe-1-hommes-a-mazamet/
CATEGORIES:Equipes
END:VEVENT
BEGIN:VEVENT
DTSTART;TZID=Europe/Paris:20240413T080000
DTEND;TZID=Europe/Paris:20240414T170000
DTSTAMP:20260420T113146
CREATED:20240123T082400Z
LAST-MODIFIED:20240123T082400Z
UID:8778-1712995200-1713114000@www.golfhippo.com
SUMMARY:Equipe Mid-Am hommes et dames Eauze
DESCRIPTION:Championnat Promotion de Ligue à Eauze
URL:https://www.golfhippo.com/evenement/equipe-mid-am-hommes-et-dames-eauze/
CATEGORIES:Equipes
END:VEVENT
END:VCALENDAR