BEGIN:VCALENDAR
VERSION:2.0
PRODID:-//Golf de l&#039;Hippodrome - ECPv6.15.20//NONSGML v1.0//EN
CALSCALE:GREGORIAN
METHOD:PUBLISH
X-ORIGINAL-URL:https://www.golfhippo.com
X-WR-CALDESC:Évènements pour Golf de l&#039;Hippodrome
REFRESH-INTERVAL;VALUE=DURATION:PT1H
X-Robots-Tag:noindex
X-PUBLISHED-TTL:PT1H
BEGIN:VTIMEZONE
TZID:Europe/Paris
BEGIN:DAYLIGHT
TZOFFSETFROM:+0100
TZOFFSETTO:+0200
TZNAME:CEST
DTSTART:20230326T010000
END:DAYLIGHT
BEGIN:STANDARD
TZOFFSETFROM:+0200
TZOFFSETTO:+0100
TZNAME:CET
DTSTART:20231029T010000
END:STANDARD
BEGIN:DAYLIGHT
TZOFFSETFROM:+0100
TZOFFSETTO:+0200
TZNAME:CEST
DTSTART:20240331T010000
END:DAYLIGHT
BEGIN:STANDARD
TZOFFSETFROM:+0200
TZOFFSETTO:+0100
TZNAME:CET
DTSTART:20241027T010000
END:STANDARD
BEGIN:DAYLIGHT
TZOFFSETFROM:+0100
TZOFFSETTO:+0200
TZNAME:CEST
DTSTART:20250330T010000
END:DAYLIGHT
BEGIN:STANDARD
TZOFFSETFROM:+0200
TZOFFSETTO:+0100
TZNAME:CET
DTSTART:20251026T010000
END:STANDARD
END:VTIMEZONE
BEGIN:VEVENT
DTSTART;TZID=Europe/Paris:20240525T133000
DTEND;TZID=Europe/Paris:20240525T180000
DTSTAMP:20260422T150801
CREATED:20240422T151936Z
LAST-MODIFIED:20240502T074747Z
UID:9141-1716643800-1716660000@www.golfhippo.com
SUMMARY:La Bigourdane
DESCRIPTION:
URL:https://www.golfhippo.com/evenement/la-bigourdane/
LOCATION:Association Golf Avenir\, 2 rue du Grand Vert\, LALOUBERE\, 65310\, France
CATEGORIES:Compétitions,Dames
ATTACH;FMTTYPE=image/png:https://www.golfhippo.com/wp-content/uploads/2024/04/Bigourdane-1.png
ORGANIZER;CN="Association Golf Avenir":MAILTO:info@golfhippo.com
END:VEVENT
END:VCALENDAR